BEGIN:VCALENDAR
VERSION:2.0
PRODID:-//Club Des Partenaires Eponois - ECPv6.10.1.1//NONSGML v1.0//EN
CALSCALE:GREGORIAN
METHOD:PUBLISH
X-ORIGINAL-URL:https://club-epone.fr
X-WR-CALDESC:Évènements pour Club Des Partenaires Eponois
REFRESH-INTERVAL;VALUE=DURATION:PT1H
X-Robots-Tag:noindex
X-PUBLISHED-TTL:PT1H
BEGIN:VTIMEZONE
TZID:Europe/Paris
BEGIN:DAYLIGHT
TZOFFSETFROM:+0100
TZOFFSETTO:+0200
TZNAME:CEST
DTSTART:20260329T010000
END:DAYLIGHT
BEGIN:STANDARD
TZOFFSETFROM:+0200
TZOFFSETTO:+0100
TZNAME:CET
DTSTART:20261025T010000
END:STANDARD
BEGIN:DAYLIGHT
TZOFFSETFROM:+0100
TZOFFSETTO:+0200
TZNAME:CEST
DTSTART:20270328T010000
END:DAYLIGHT
BEGIN:STANDARD
TZOFFSETFROM:+0200
TZOFFSETTO:+0100
TZNAME:CET
DTSTART:20271031T010000
END:STANDARD
END:VTIMEZONE
BEGIN:VEVENT
DTSTART;VALUE=DATE:20260401
DTEND;VALUE=DATE:20261030
DTSTAMP:20260421T153007
CREATED:20260301T090048Z
LAST-MODIFIED:20260331T185440Z
UID:100000161-1775001600-1793318399@club-epone.fr
SUMMARY:La Guinguette est ouverte les Mercredis\, Samedis et Dimanches après midi.
DESCRIPTION:[vc_row][vc_column][vc_column_text bb_tab_container= » »]Jean Paul et son équipe vous attendent nombreux et nombreuses à la Guinguette du Parc du Château. \nVenez déguster les glaces à l’italienne\, les crêpes\, les boissons chaudes et froides. \nSi vous souhaitez apporter votre aide dans la tenue de cette guinguette\, n’hésitez pas à contacter Jean-Paul au 06 86 36 59 33 \nATTENTION Réouverture le 1 avril 2026.\n[/vc_column_text][/vc_column][/vc_row][vc_row][vc_column][/vc_column][/vc_row][vc_row][vc_column][vc_gallery interval= »3″ images= »100001073\,100001260\,100001257″ img_size= »medium »][/vc_column][/vc_row]
URL:https://club-epone.fr/evenement/guinguette-parc-du-chateau/
LOCATION:Parc du Château d’Épône\, 9 Rue du Pavé\, Épône\, 78680\, France
CATEGORIES:événement à la Une,Sortie
ATTACH;FMTTYPE=image/jpeg:https://club-epone.fr/wp-content/uploads/2022/06/20220416_150301-scaled.jpg
END:VEVENT
BEGIN:VEVENT
DTSTART;TZID=Europe/Paris:20260424T063000
DTEND;TZID=Europe/Paris:20260424T183000
DTSTAMP:20260421T153007
CREATED:20260112T101113Z
LAST-MODIFIED:20260420T153002Z
UID:100013453-1777012200-1777055400@club-epone.fr
SUMMARY:Sortie 2026 D-DAY
DESCRIPTION:[vc_row][vc_column][vc_column_text] \nNous vous proposons une journée mémorable sur les plages du Débarquement\, à la découverte des lieux emblématiques de la Seconde Guerre mondiale. Au programme : la Pointe du Hoc et ses impressionnants vestiges\, le recueillement au cimetière américain de Colleville\, l’impressionnante batterie de Longues-sur-Mer et la richesse historique du musée d’Arromanches. Cette visite\, vous plongera au cœur de l’Histoire.\n[/vc_column_text][vc_column_text]Programme détaillé : \n\nDépart à 6h45de la mairie d’Epône\n 9h45 -10h30 Visite Pointe du Hoc\n11h-12h30 Plage Omaha Beach et Visite cimetière US de Colleville\n13h-14h15. Repas restaurant « La Marine » à Port en Bessin (entrée\, plat et dessert) les boissons ne sont pas comprises. Vous devez choisir uniquement votre plat et le communiquer à Jean-Paul par sms \nau 06 86 36 59 33 \n14h30-15h. Visite de la Batterie de Longues-Sur-Mer\n15h30-16h15. Visite du musée d’Arromanches.\n16h30 Retour vers Epone\n\n[/vc_column_text][/vc_column][/vc_row][vc_row][vc_column width= »1/2″][vc_single_image image= »100013455″ img_size= »medium » alignment= »center » bb_tab_container= » »][vc_single_image image= »100013457″ img_size= »medium » alignment= »center » bb_tab_container= » »][/vc_column][vc_column width= »1/2″][vc_single_image image= »100013456″ img_size= »medium » alignment= »center » bb_tab_container= » »][vc_single_image image= »100013462″ img_size= »medium » alignment= »center » bb_tab_container= » »][/vc_column][/vc_row][vc_row][vc_column][vc_column_text] \nLe prix par personne est de 65€ tout compris (repas sans boissons).\nDate limite d’inscription le 25 avril 2026\, par commande uniquement sur le site.\n*** 3 PLACES DISPONIBLES ***\n[/vc_column_text][/vc_column][/vc_row][vc_row][vc_column width= »1/2″]\n\n	Sortie 2026 D-DAY\n	65.00€\nLire la suite	\n			\n\n\n[/vc_column][vc_column width= »1/2″][vc_btn title= »Veuillez choisir uniquement votre plat et le communiquer à Jean Paul par sms au 06 86 36 59 33″ color= »pink » link= »url:https%3A%2F%2Fclub-epone.fr%2Fwp-content%2Fuploads%2F2026%2F01%2FREPAS-D.DAY_.pages|target:_blank » x_largebbresponsive= ».bb_custom_1768763669892{font-weight:700!important;} »][/vc_column][/vc_row]
URL:https://club-epone.fr/evenement/sortie-2025-d-day/
CATEGORIES:événement à la Une,Sortie
ATTACH;FMTTYPE=image/png:https://club-epone.fr/wp-content/uploads/2025/01/UTF-8QCapture_dE28099C3A9cran_2025-01-16_C3A0_15.26.33.png.png
END:VEVENT
BEGIN:VEVENT
DTSTART;TZID=Europe/Paris:20260512T080000
DTEND;TZID=Europe/Paris:20260519T170000
DTSTAMP:20260421T153007
CREATED:20260210T182902Z
LAST-MODIFIED:20260219T163837Z
UID:100016930-1778572800-1779210000@club-epone.fr
SUMMARY:Circuit 2026 - Albanie
DESCRIPTION:[vc_row][vc_column][vc_column_text] \nLe Club Des Partenaires Epônois vous propose un circuit du 12 au 19 mai 2026.\n[/vc_column_text][/vc_column][/vc_row][vc_row][vc_column width= »1/3″][vc_single_image image= »100016991″][/vc_column][vc_column width= »1/3″][vc_single_image image= »100016990″][/vc_column][vc_column width= »1/3″][vc_single_image image= »100016989″][/vc_column][/vc_row][vc_row][vc_column width= »1/2″][vc_separator color= »white » border_width= »10″][vc_btn title= »Cliquez sur le bouton pour voir le circuit détaillé » style= »3d » color= »success » link= »url:https%3A%2F%2Fclub-epone.fr%2Fwp-content%2Fuploads%2F2026%2F02%2FCDPE-ALBANIE-2026-.pdf|target:_blank » bb_tab_container= » »][/vc_column][vc_column width= »1/2″][vc_single_image image= »100016993″ img_size= »MEDIUM » onclick= »link_image »][/vc_column][/vc_row][vc_row][vc_column][vc_column_text] \nTarif pour le circuit 1695 euros par personne\, assurances comprises (annulation\, accident\, covid). Supplément de 200 euros pour chambre single.\nIl nous faut impérativement 35/40 inscrits pour valider le circuit.\nPaiement uniquement par chèques à l’ordre de TOURS SQUARE (3 chèques maximum).\nInscription uniquement sur le site\, à la suite des inscriptions Philippe fera une réunion de confirmation.\nPour valider votre inscription\, tous vos documents et chèques doivent parvenir à Philippe LEFEVRE dans une enveloppe à votre nom\, et sera déposée en mairie d’Epône dès que possible.\nAttention le prix n’est pas définitif il pourra varié en fonction de la hausse des taxes aéroports\, ou diverses et sera réajusté au moment du départ. Il deviendra fixe 90 jours avant le départ. Toute annulation avant les 90 jours du départ sont sans frais. Après\, les frais seront de 150 euros par personne. Passeport obligatoire et en cours de validation.  Possibilité de paiement en plusieurs fois.\n[/vc_column_text][/vc_column][/vc_row][vc_row][vc_column][vc_zigzag color= »pink »][vc_column_text] \nATTENTION Le circuit ne sera validé que si nous avons 35 personnes.\nA imprimer\, à renseigner\, à signer et joindre les trois pages dans l’enveloppe ainsi que les chèques à l’ordre de TOURS SQUARE. [/vc_column_text][/vc_column][/vc_row][vc_row][vc_column width= »1/3″][vc_btn title= »Formulaire voyage – Page N° 1″ style= »3d » color= »pink » link= »url:https%3A%2F%2Fclub-epone.fr%2Fwp-content%2Fuploads%2F2023%2F09%2FFormulaire-Voyage-Page-1.pdf|target:_blank »][/vc_column][vc_column width= »1/3″][vc_btn title= »Formulaire voyage – Page N° 2″ style= »3d » color= »pink » link= »url:https%3A%2F%2Fclub-epone.fr%2Fwp-content%2Fuploads%2F2025%2F08%2FFormulaire-Voyage-Page-2-maj-2025.pdf|target:_blank »][/vc_column][vc_column width= »1/3″][vc_btn title= »Formulaire voyage – Page N° 3″ style= »3d » color= »pink » link= »url:https%3A%2F%2Fclub-epone.fr%2Fwp-content%2Fuploads%2F2023%2F09%2FFormulaire-Voyage-Page-3.pdf|target:_blank »][/vc_column][/vc_row][vc_row][vc_column][vc_zigzag color= »pink »]\n\n	Circuit 2026 Albanie\n	1\,695.00€\nLire la suite	\n			\n\n\n	Circuit 2026 Albanie – Chambre individuelle\n	200.00€\nLire la suite	\n			\n\n\n[/vc_column][/vc_row]
URL:https://club-epone.fr/evenement/circuit-2026-albanie/
CATEGORIES:événement à la Une,Voyages
ATTACH;FMTTYPE=image/jpeg:https://club-epone.fr/wp-content/uploads/2026/02/download.jpg
END:VEVENT
BEGIN:VEVENT
DTSTART;TZID=Europe/Paris:20260522T170000
DTEND;TZID=Europe/Paris:20260522T230000
DTSTAMP:20260421T153007
CREATED:20260224T185432Z
LAST-MODIFIED:20260310T183015Z
UID:100017337-1779469200-1779490800@club-epone.fr
SUMMARY:Soirée Hippodrome de Vincennes 2026
DESCRIPTION:[vc_row][vc_column][vc_column_text] \nLe CDPE vous propose une sortie à l’Hippodrome de Vincennes le 22 ou 29 mai prochain (date à confirmer ultérieurement).\nInauguré en mars 1863\, l’Hippodrome Paris-Vincennes est consacré aux courses hippiques au trot\, attelé ou monté.\nPar la qualité de sa piste cendrée\, ses commodités d’accueil\, ses drivers et ses chevaux (150 boxes)\, ainsi que ses courses prestigieuses comme le Prix de Cornulier et le Prix d’Amérique Legend Race\, il est considéré comme le Temple du Trot dans le Monde.\n[/vc_column_text][vc_row_inner][vc_column_inner width= »1/2″][vc_single_image image= »100017350″ img_size= »medium » onclick= »link_image »][/vc_column_inner][vc_column_inner width= »1/2″][vc_single_image image= »100017352″ img_size= »medium » onclick= »link_image »][/vc_column_inner][/vc_row_inner][/vc_column][/vc_row][vc_row][vc_column][vc_column_text bb_tab_container= » »] \nHippodrome de Vincennes le 22 ou 29 mai 2026 (date à confirmer).\nTransport en car\, départ de la Mairie d’Epône (heure à préciser ultérieurement par sms). \nVisite guidée des écuries et repas « Ourasi » avec une boisson.\nPrix des places : 69€ \n63 places disponibles\nDate limite d’inscription : le 7 mars 2026 (uniquement sur le site).\n*** RESERVATION TERMINEE ***\n[/vc_column_text][/vc_column][/vc_row][vc_row][vc_column width= »1/4″][/vc_column][vc_column width= »3/4″][/vc_column][/vc_row]
URL:https://club-epone.fr/evenement/soiree-hippodrome-de-vincennes-2026/
CATEGORIES:événement à la Une,Sortie
ATTACH;FMTTYPE=image/jpeg:https://club-epone.fr/wp-content/uploads/2026/02/download-1-3.jpg
END:VEVENT
BEGIN:VEVENT
DTSTART;TZID=Europe/Paris:20260702T080000
DTEND;TZID=Europe/Paris:20260704T170000
DTSTAMP:20260421T153007
CREATED:20251129T160048Z
LAST-MODIFIED:20251216T163742Z
UID:100014988-1782979200-1783184400@club-epone.fr
SUMMARY:Week-end 2026 - Puy Du Fou
DESCRIPTION:[vc_row][vc_column][vc_column_text bb_tab_container= » »] \nPartez pour un week-end exceptionnel au Puy du Fou du 3 au 5 juillet 2026 (3 jours / 2 nuits).Profitez de l’entrée au parc pour découvrir des spectacles historiques et immersifs uniques.Laissez-vous émerveiller par des décors grandioses et des mises en scène inoubliables.En soirée\, vivez l’émotion poétique des Noces de Feu\, un ballet magique d’eau et de lumière.Puis\, assistez à la célèbre Cinéscénie\, le plus grand spectacle de nuit au monde.Plus de 2 500 acteurs et des effets spectaculaires vous transporteront à travers les siècles.Votre séjour inclut également l’hébergement (hôtel à 5km)\, le transport en car\, les billets d’entrée au parc et aux spectacles.\n63 places disponibles avec un minimum de 40 personnes sinon nous serons obligés d’annuler ce week-end.\nLe prix des places est à 405€\, possibilité de payer en 3 fois (135€ x3)\, paiement  par chèque à l’ordre du CDPE.\nNe sont pas compris les déjeuners du midi et les dépenses personnels.\n  \n*** COMPLET ***\n[/vc_column_text][/vc_column][/vc_row][vc_row][vc_column][vc_video link= »https://www.youtube.com/watch?v=QoS_-KdKEoU » align= »center »][/vc_column][/vc_row][vc_row][vc_column][vc_video link= »https://www.youtube.com/shorts/EATz2Lx5_vs » el_width= »90″ el_aspect= »34″ align= »center »][/vc_column][/vc_row][vc_row][vc_column][/vc_column][/vc_row]
URL:https://club-epone.fr/evenement/week-end-2026-puy-du-fou/
CATEGORIES:événement à la Une,Sortie
ATTACH;FMTTYPE=image/jpeg:https://club-epone.fr/wp-content/uploads/2025/09/download-1.jpg
END:VEVENT
BEGIN:VEVENT
DTSTART;VALUE=DATE:20261003
DTEND;VALUE=DATE:20261005
DTSTAMP:20260421T153007
CREATED:20260413T155425Z
LAST-MODIFIED:20260420T151756Z
UID:100017233-1790985600-1791158399@club-epone.fr
SUMMARY:Salon  Vins & Terroirs      les 3 & 4 octobre 2026
DESCRIPTION:[vc_row][vc_column][vc_column_text] \nVenez vivre un moment convivial et gourmand à la  Salle du Bout du Monde à Epône\n Samedi de 10H – 19H \n Dimanche de 10h – 17H \nUne expérience authentique\nPartez à la découverte de vins et produits du terroir venus de toute la France. \nDégustez\, échangez avec les producteurs et laissez-vous séduire par la richesse de nos régions. \nVotre entrée vous donne droit à notre tombola avec de nombreux lots à gagner ! \nA la clé : une cave à vin à remporter chaque jour. \nPlaisirs gourmands sur place\,\nProfitez d’un espace restauration avec : \n\nHuîtres\nSaucisses frites\nCrêpes sucrées\nGlaces\n\nEntrée 2 Euros – Gratuit pour les -16 ans. \nUn verre dégustation sera offert à chaque visiteur. \n[/vc_column_text][/vc_column][/vc_row][vc_row][vc_column width= »1/2″][vc_separator color= »white » border_width= »8″][vc_btn title= »Liste des exposants 2026″ style= »3d » color= »success » size= »lg » link= »url:https%3A%2F%2Fclub-epone.fr%2Fliste-des-exposants-au-salon-vins-terroirs%2F|title:Liste%20des%20exposants%20au%20salon%20vins%20%26%20terroirs|target:_blank » bb_tab_container= » »][/vc_column][vc_column width= »1/2″][vc_gallery type= »flexslider_slide » interval= »3″ images= »100001109\,100001110\,100001112″ img_size= »medium » onclick= » »][/vc_column][/vc_row][vc_row][vc_column][vc_single_image image= »100017513″ img_size= »LARGE » alignment= »center »][/vc_column][/vc_row][vc_row][vc_column][vc_column_text] \nExposition exceptionnelle\nTout au long du week-end\, profitez d’une grande exposition de voitures anciennes ! \nUn véritable voyage dans le temps qui ravira les passionnés comme les curieux. \n[/vc_column_text][vc_media_grid element_width= »6″ grid_id= »vc_gid:1776698148832-48cfcca4-67b7-2″ include= »100010779\,100010777\,100010780\,100010781″][/vc_column][/vc_row]
URL:https://club-epone.fr/evenement/salon-vins-terroirs-2026/
LOCATION:Salle du bout du monde Epone (quartier Elisabethville)\, Le bout du monde\, Epone\, 78680\, France
CATEGORIES:Annonces,événement à la Une
ATTACH;FMTTYPE=image/png:https://club-epone.fr/wp-content/uploads/2026/03/entete-photo-salon-vin-terroirs.png
END:VEVENT
BEGIN:VEVENT
DTSTART;TZID=Europe/Paris:20261015T200000
DTEND;TZID=Europe/Paris:20261015T220000
DTSTAMP:20260421T153007
CREATED:20250203T194121Z
LAST-MODIFIED:20260216T165832Z
UID:100013516-1792094400-1792101600@club-epone.fr
SUMMARY:Comédie musicale 2026                  "Le Roi Soleil"
DESCRIPTION:[vc_row][vc_column][vc_column_text] \nLe Roi Soleil est une comédie musicale produite par Dove Attia et Albert Cohen\, mise en scène et chorégraphiée par Kamel Ouali.\nElle retrace la vie de Louis XIV\, de son enfance marquée par la Fronde jusqu’à l’affirmation de son pouvoir absolu. \nAu delà du récit historique\, la comédie musicale modernise le XVII siècle grâce à une mise en scène spectaculaire. \nChorégraphies dynamiques\, décors fastueux\, costumes inspirés de l’époque et musique pop contemporaine. \nDes titres comme « Etre à la hauteur »\, « Mon essentiel » ou « Tant qu’on rêve encore » sont devenus emblématiques. \nPrincipaux chanteurs : Emmanuel Moire (Louis XIV) – Cécilia Care (Maria Mancini) – Damien Sargue (Roméo) \n[/vc_column_text][vc_single_image image= »100017049″ img_size= »large » alignment= »center » onclick= »link_image »][/vc_column][/vc_row][vc_row][vc_column width= »2/3″][vc_column_text bb_tab_container= » »] \nComédie musicale « Le Roi Soleil » le 15 octobre 2026.\nTransport en car\, départ de la Mairie d’Epône (à préciser ultérieurement par sms).\nPrix des places en catégorie 1 : 45€  (transport compris).\n100 places disponibles\nDate limite d’inscription : le 15 mars (uniquement sur le site).                                                                         \n[/vc_column_text][/vc_column][vc_column width= »1/3″]\n\n	Comédie musicale 2026 – Le Roi Soleil\n	45.00€\nLire la suite	\n			\n\n\n[/vc_column][/vc_row][vc_row][vc_column][vc_column_text] \nRappel : Vous ne pouvez commander qu’une place par adhérent et par compte.\n[/vc_column_text][vc_video link= »https://www.youtube.com/watch?v=e7jjFsJpxJA »][/vc_column][/vc_row]
URL:https://club-epone.fr/evenement/comedie-musicale-2026-le-roi-soleil/
CATEGORIES:événement à la Une,Théâtre
ATTACH;FMTTYPE=image/jpeg:https://club-epone.fr/wp-content/uploads/2026/01/download.jpg
END:VEVENT
BEGIN:VEVENT
DTSTART;TZID=Europe/Paris:20261026T200000
DTEND;TZID=Europe/Paris:20261026T233000
DTSTAMP:20260421T153007
CREATED:20241226T110106Z
LAST-MODIFIED:20260413T150336Z
UID:100013007-1793044800-1793057400@club-epone.fr
SUMMARY:Florent PAGNY OCT - 2026
DESCRIPTION:[vc_row][vc_column][vc_column_text] \nVous l’attendiez… Le Club Des Partenaires Epônois vous propose un concert de Florent Pagny le 26 octobre 2026 au Zénith de Rouen. Départ en car de la mairie d’Epône vers 18h.(l’horaire sera précisé par Sms)\n[/vc_column_text][/vc_column][/vc_row][vc_row][vc_column][vc_column_text] \n60 places disponibles en 2ème catégorie au prix de 59€ par personne\, fin des réservations le 17 mars 2026 à 12h. \n***COMPLET***\n[/vc_column_text][/vc_column][/vc_row][vc_row][vc_column][/vc_column][/vc_row]
URL:https://club-epone.fr/evenement/florent-pagny-2026/
CATEGORIES:événement à la Une,Sortie
ATTACH;FMTTYPE=image/jpeg:https://club-epone.fr/wp-content/uploads/2024/12/download-1.jpg
END:VEVENT
BEGIN:VEVENT
DTSTART;TZID=Europe/Paris:20261102T080000
DTEND;TZID=Europe/Paris:20261112T110000
DTSTAMP:20260421T153007
CREATED:20250106T123913Z
LAST-MODIFIED:20251209T171007Z
UID:100012837-1793606400-1794481200@club-epone.fr
SUMMARY:Circuit 2026 Japon
DESCRIPTION:[vc_row][vc_column][vc_column_text] \nLe Club Des Partenaires Epônois vous propose un circuit au Japon en novembre 2026.\n[/vc_column_text][vc_single_image image= »100013141″ img_size= »full » alignment= »center »][/vc_column][/vc_row][vc_row][vc_column width= »1/3″][vc_separator color= »white » border_width= »10″][vc_single_image image= »100012840″ img_size= »full » alignment= »center » onclick= »link_image »][/vc_column][vc_column width= »1/3″][vc_separator color= »white » border_width= »10″][vc_single_image image= »100012842″ img_size= »full » alignment= »center » onclick= »link_image »][/vc_column][vc_column width= »1/3″][vc_separator color= »white » border_width= »10″][vc_single_image image= »100012847″ img_size= »full » alignment= »center » onclick= »link_image »][/vc_column][/vc_row][vc_row][vc_column][vc_separator color= »white » border_width= »10″][vc_separator color= »white » border_width= »10″][vc_btn title= »Cliquez sur le bouton ou l’image ci-dessous pour consulter le programme détaillé du circuit » style= »3d » color= »success » align= »center » custom_onclick= »true » link= »url:https%3A%2F%2Fclub-epone.fr%2Fwp-content%2Fuploads%2F2025%2F01%2FCDPE-JAPON-CDPE.pdf|target:_blank » custom_onclick_code= »https://club-epone.fr/wp-content/uploads/2025/01/CDPE-JAPON-CDPE.pdf »][vc_separator color= »white » border_width= »10″][vc_single_image image= »100013118″ img_size= »large » onclick= »custom_link » img_link_target= »_blank » link= »https://club-epone.fr/wp-content/uploads/2025/01/CDPE-JAPON-CDPE.pdf »][/vc_column][/vc_row][vc_row][vc_column][vc_column_text bb_tab_container= » »] \nATTENTION ce voyage n’est pas adapté aux personnes à mobilité réduite.\nNombre de places disponibles 33\, en cas de forte demande nous passerons à 66 ou 99 et nous ferons deux ou trois groupes et donc deux ou trois départs.\nTarif pour le circuit 3650 euros par personne\, assurances comprises (annulation\, accident\, covid). Supplément de 430 euros pour chambre single.\nInscription uniquement sur le site avec un chèque d’acompte de 250€ à l’ordre de TOURS SQUARE prélevé suite à la commande (février). Le solde toujours par chèque à l’ordre de TOURS SQUARE (17 chèques de 200€ prélèvement de mars à août 2026).\nPour valider votre inscription\, tous vos documents et chèques doivent parvenir à Philippe LEFEVRE dans une enveloppe à votre nom\, et sera déposée en mairie d’Epône dès que possible.\nAttention les prix et le programme sont sous réserves de modification donc à titre indicatif. Le prix pourra varié en fonction de la hausse des taxes aéroports ou du cours de la devise et sera réajusté au moment du départ. Toute annulation avant les 90 jours du départ sont sans frais. Après\, les frais seront de 150 euros par personne. Passeport obligatoire et en cours de validation.  \n*** COMPLET ***  Vous souhaitez vous mettre sur la liste d’attente ? \nUtilisez la zone commentaire ci-dessous.\nPour les personnes inscrites\, réunion d’information le 15 décembre 17h30 (horaire à préciser) \n[/vc_column_text][/vc_column][/vc_row][vc_row][vc_column][vc_zigzag color= »pink »][vc_column_text] \nA imprimer\, à renseigner\, à signer et joindre les trois pages dans l’enveloppe avec la copie du passeport ainsi que les chèques à l’ordre de TOURS SQUARE. \n\n[/vc_column_text][/vc_column][/vc_row][vc_row][vc_column width= »1/3″][vc_btn title= »Formulaire voyage – Page N° 1″ style= »3d » color= »danger » link= »url:https%3A%2F%2Fclub-epone.fr%2Fwp-content%2Fuploads%2F2023%2F09%2FFormulaire-Voyage-Page-1.pdf|target:_blank »][/vc_column][vc_column width= »1/3″][vc_btn title= »Formulaire voyage – Page N° 2″ style= »3d » color= »danger » link= »url:https%3A%2F%2Fclub-epone.fr%2Fwp-content%2Fuploads%2F2025%2F08%2FFormulaire-Voyage-Page-2-maj-2025.pdf|target:_blank »][/vc_column][vc_column width= »1/3″][vc_btn title= »Formulaire voyage – Page N° 3″ style= »3d » color= »danger » link= »url:https%3A%2F%2Fclub-epone.fr%2Fwp-content%2Fuploads%2F2023%2F09%2FFormulaire-Voyage-Page-3.pdf|target:_blank »][/vc_column][/vc_row][vc_row][vc_column][vc_zigzag color= »pink »][/vc_column][/vc_row][vc_row][vc_column width= »1/2″][vc_separator color= »white » border_width= »10″][/vc_column][vc_column width= »1/2″][vc_separator color= »white » border_width= »10″][/vc_column][/vc_row]
URL:https://club-epone.fr/evenement/circuit-japon-2026/
LOCATION:japon
CATEGORIES:événement à la Une,Voyages
ATTACH;FMTTYPE=image/jpeg:https://club-epone.fr/wp-content/uploads/2024/12/images.jpg
END:VEVENT
BEGIN:VEVENT
DTSTART;TZID=Europe/Paris:20270309T173000
DTEND;TZID=Europe/Paris:20270309T230000
DTSTAMP:20260421T153007
CREATED:20260224T185244Z
LAST-MODIFIED:20260224T185244Z
UID:100017323-1804613400-1804633200@club-epone.fr
SUMMARY:Légende Balavoine 2027
DESCRIPTION:[vc_row][vc_column][vc_column_text] \nDe L’Aziza à Le Chanteur\, en passant par Mon fils\, ma bataille\, Lucie ou Sauver l’amour\, sans oublier son rôle marquant dans la comédie musicale culte Starmania\, ses titres ont traversé les époques\, touché des générations entières et résonnent encore aujourd’hui avec une étonnante modernité.\nPour redonner vie à cette œuvre intemporelle\, Légende Balavoine réunit sur scène une équipe d’artistes passionnés et de musiciens de haut vol.\nÀ la direction musicale : Roman Chelminski\, guitariste et arrangeur reconnu\, véritable chef d’orchestre de ce projet. Fort de collaborations avec Patrick Bruel\, Julien Clerc ou encore Christophe Willem\, il insuffle une nouvelle énergie aux titres emblématiques de Balavoine\, tout en restant fidèle à leur essence.\nLégende Balavoine est plus qu’un hommage : c’est l’occasion de revivre\, ressentir et célébrer ensemble les chansons et l’héritage que Daniel Balavoine nous a laissé.\n[/vc_column_text][/vc_column][/vc_row][vc_row][vc_column][vc_video link= »https://www.youtube.com/watch?v=vJYkkX8zEak »][/vc_column][/vc_row][vc_row][vc_column width= »2/3″][vc_column_text] \nLégende Balavoine le 7 mars 2027.\nTransport en car\, départ de la Mairie d’Epône (à préciser ultérieurement par sms).\nPrix des places : 45€ \n63 places disponibles\nDate limite d’inscription : le 30 mars 2026 (uniquement sur le site).\n[/vc_column_text][/vc_column][vc_column width= »1/3″]\n\n	Légende Balavoine 2027\n	45.00€\nLire la suite	\n			\n\n\n[/vc_column][/vc_row][vc_row][vc_column][/vc_column][/vc_row]
URL:https://club-epone.fr/evenement/legende-balavoine-2027/
CATEGORIES:événement à la Une,Sortie
ATTACH;FMTTYPE=image/jpeg:https://club-epone.fr/wp-content/uploads/2026/02/download-7.jpg
END:VEVENT
END:VCALENDAR